BEGIN:VCALENDAR
VERSION:2.0
PRODID:-//Asha Homoeopathy Clinic - ECPv4.9.8//NONSGML v1.0//EN
CALSCALE:GREGORIAN
METHOD:PUBLISH
X-WR-CALNAME:Asha Homoeopathy Clinic
X-ORIGINAL-URL:https://ashahomoeocare.com
X-WR-CALDESC:Events for Asha Homoeopathy Clinic
BEGIN:VTIMEZONE
TZID:Asia/Kolkata
BEGIN:STANDARD
TZOFFSETFROM:+0530
TZOFFSETTO:+0530
TZNAME:IST
DTSTART:20210101T000000
END:STANDARD
END:VTIMEZONE
BEGIN:VEVENT
DTSTART;TZID="Asia/Kolkata":20210326T080000
DTEND;TZID="Asia/Kolkata":20210326T170000
DTSTAMP:20260421T120836
CREATED:20210326T080437Z
LAST-MODIFIED:20210326T080438Z
UID:4026-1616745600-1616778000@ashahomoeocare.com
SUMMARY:Watch Dr. B. S. Bhosale sir on SAAM SANJEEVANI  on Thursday\, 1st April\, 2021 At 4:30 pm
DESCRIPTION:
URL:https://ashahomoeocare.com/event/watch-dr-b-s-bhosale-sir-on-saam-sanjeevani-on-thursday-1st-april-2021-at-430-pm/
ATTACH;FMTTYPE=image/jpeg:https://ashahomoeocare.com/wp-content/uploads/2021/03/website.jpg
END:VEVENT
END:VCALENDAR