BEGIN:VCALENDAR
VERSION:2.0
PRODID:-//Asha Homoeopathy Clinic - ECPv4.9.8//NONSGML v1.0//EN
CALSCALE:GREGORIAN
METHOD:PUBLISH
X-WR-CALNAME:Asha Homoeopathy Clinic
X-ORIGINAL-URL:https://ashahomoeocare.com
X-WR-CALDESC:Events for Asha Homoeopathy Clinic
BEGIN:VTIMEZONE
TZID:Asia/Kolkata
BEGIN:STANDARD
TZOFFSETFROM:+0530
TZOFFSETTO:+0530
TZNAME:IST
DTSTART:20220101T000000
END:STANDARD
END:VTIMEZONE
BEGIN:VEVENT
DTSTART;TZID="Asia/Kolkata":20220128T140000
DTEND;TZID="Asia/Kolkata":20220131T140000
DTSTAMP:20260423T123254
CREATED:20211020T095419Z
LAST-MODIFIED:20211020T095419Z
UID:4110-1643378400-1643637600@ashahomoeocare.com
SUMMARY:Repertory Ki Paathshaala
DESCRIPTION:
URL:https://ashahomoeocare.com/event/repertory-ki-paathshaala/
LOCATION:Hotel Millenium Park\, SNo. 13\, Godavali Village\, Behind Bharati Vidyapith Panchagani\, Mahabaleshwar\, Maharashtra - 412805\, Panchgani\, Maharashtra\, India
ATTACH;FMTTYPE=image/jpeg:https://ashahomoeocare.com/wp-content/uploads/2021/10/245993560_4635736523189539_4135113046130654604_n.jpg
END:VEVENT
END:VCALENDAR