BEGIN:VCALENDAR
VERSION:2.0
PRODID:-//Asha Homoeopathy Clinic - ECPv4.9.8//NONSGML v1.0//EN
CALSCALE:GREGORIAN
METHOD:PUBLISH
X-WR-CALNAME:Asha Homoeopathy Clinic
X-ORIGINAL-URL:https://ashahomoeocare.com
X-WR-CALDESC:Events for Asha Homoeopathy Clinic
BEGIN:VTIMEZONE
TZID:Asia/Kolkata
BEGIN:STANDARD
TZOFFSETFROM:+0530
TZOFFSETTO:+0530
TZNAME:IST
DTSTART:20210101T000000
END:STANDARD
END:VTIMEZONE
BEGIN:VEVENT
DTSTART;TZID="Asia/Kolkata":20211011T080000
DTEND;TZID="Asia/Kolkata":20211011T170000
DTSTAMP:20260421T173114
CREATED:20211011T081410Z
LAST-MODIFIED:20211011T081410Z
UID:4094-1633939200-1633971600@ashahomoeocare.com
SUMMARY:Repertory Ki Paathsahaala..
DESCRIPTION:
URL:https://ashahomoeocare.com/event/repertory-ki-paathsahaala/
ATTACH;FMTTYPE=image/jpeg:https://ashahomoeocare.com/wp-content/uploads/2021/10/244748405_4597146437048548_530307216786073375_n.jpg
END:VEVENT
END:VCALENDAR