BEGIN:VCALENDAR
VERSION:2.0
PRODID:-//Asha Homoeopathy Clinic - ECPv4.9.8//NONSGML v1.0//EN
CALSCALE:GREGORIAN
METHOD:PUBLISH
X-WR-CALNAME:Asha Homoeopathy Clinic
X-ORIGINAL-URL:https://ashahomoeocare.com
X-WR-CALDESC:Events for Asha Homoeopathy Clinic
BEGIN:VTIMEZONE
TZID:Asia/Kolkata
BEGIN:STANDARD
TZOFFSETFROM:+0530
TZOFFSETTO:+0530
TZNAME:IST
DTSTART:20230101T000000
END:STANDARD
END:VTIMEZONE
BEGIN:VEVENT
DTSTART;TZID="Asia/Kolkata":20230305T110000
DTEND;TZID="Asia/Kolkata":20230305T170000
DTSTAMP:20260424T013501
CREATED:20230225T075845Z
LAST-MODIFIED:20230225T075845Z
UID:4299-1678014000-1678035600@ashahomoeocare.com
SUMMARY:Pune Visit on 5th March\,2023
DESCRIPTION:
URL:https://ashahomoeocare.com/event/pune-visit-on-5th-march2023/
ATTACH;FMTTYPE=image/jpeg:https://ashahomoeocare.com/wp-content/uploads/2023/02/pune-march-copy.jpg
END:VEVENT
END:VCALENDAR