BEGIN:VCALENDAR
VERSION:2.0
PRODID:-//Asha Homoeopathy Clinic - ECPv4.9.8//NONSGML v1.0//EN
CALSCALE:GREGORIAN
METHOD:PUBLISH
X-WR-CALNAME:Asha Homoeopathy Clinic
X-ORIGINAL-URL:https://ashahomoeocare.com
X-WR-CALDESC:Events for Asha Homoeopathy Clinic
BEGIN:VTIMEZONE
TZID:Asia/Kolkata
BEGIN:STANDARD
TZOFFSETFROM:+0530
TZOFFSETTO:+0530
TZNAME:IST
DTSTART:20230101T000000
END:STANDARD
END:VTIMEZONE
BEGIN:VEVENT
DTSTART;TZID="Asia/Kolkata":20230218T110000
DTEND;TZID="Asia/Kolkata":20230218T180000
DTSTAMP:20260424T014604
CREATED:20230210T062941Z
LAST-MODIFIED:20230210T062941Z
UID:4282-1676718000-1676743200@ashahomoeocare.com
SUMMARY:MUMBAI VISIT ON18TH FEBRUARY\,2023
DESCRIPTION:
URL:https://ashahomoeocare.com/event/mumbai-visit-on18th-february2023/
ATTACH;FMTTYPE=image/jpeg:https://ashahomoeocare.com/wp-content/uploads/2023/02/329962974_1262541284361746_2150107055459182892_n.jpg
END:VEVENT
END:VCALENDAR