BEGIN:VCALENDAR
VERSION:2.0
PRODID:-//Asha Homoeopathy Clinic - ECPv4.9.8//NONSGML v1.0//EN
CALSCALE:GREGORIAN
METHOD:PUBLISH
X-WR-CALNAME:Asha Homoeopathy Clinic
X-ORIGINAL-URL:https://ashahomoeocare.com
X-WR-CALDESC:Events for Asha Homoeopathy Clinic
BEGIN:VTIMEZONE
TZID:Asia/Kolkata
BEGIN:STANDARD
TZOFFSETFROM:+0530
TZOFFSETTO:+0530
TZNAME:IST
DTSTART:20210101T000000
END:STANDARD
END:VTIMEZONE
BEGIN:VEVENT
DTSTART;TZID="Asia/Kolkata":20211016T100000
DTEND;TZID="Asia/Kolkata":20211016T180000
DTSTAMP:20260423T105521
CREATED:20211012T082528Z
LAST-MODIFIED:20211012T082718Z
UID:4101-1634378400-1634407200@ashahomoeocare.com
SUMMARY:MUMBAI VISIT ON 17TH OCTOBER\, 2021
DESCRIPTION:
URL:https://ashahomoeocare.com/event/mumbai-visit-on-17th-october-2021/
ATTACH;FMTTYPE=image/jpeg:https://ashahomoeocare.com/wp-content/uploads/2021/10/IMG-20211012-WA0001.jpg
END:VEVENT
END:VCALENDAR