BEGIN:VCALENDAR
VERSION:2.0
PRODID:-//Asha Homoeopathy Clinic - ECPv4.9.8//NONSGML v1.0//EN
CALSCALE:GREGORIAN
METHOD:PUBLISH
X-WR-CALNAME:Asha Homoeopathy Clinic
X-ORIGINAL-URL:https://ashahomoeocare.com
X-WR-CALDESC:Events for Asha Homoeopathy Clinic
BEGIN:VTIMEZONE
TZID:UTC
BEGIN:STANDARD
TZOFFSETFROM:+0000
TZOFFSETTO:+0000
TZNAME:UTC
DTSTART:20190101T000000
END:STANDARD
END:VTIMEZONE
BEGIN:VEVENT
DTSTART;TZID="UTC":20190930T110000
DTEND;TZID="UTC":20190930T110000
DTSTAMP:20260424T101046
CREATED:20191221T033318Z
LAST-MODIFIED:20191115T002427Z
UID:2988-1569841200-1569841200@ashahomoeocare.com
SUMMARY:Launching Of New Website
DESCRIPTION:
URL:https://ashahomoeocare.com/event/launching-of-new-website/
LOCATION:Asha Homeopathy\, Shivaji Road\, Near Bank Of India\, Miraj\, Maharashtra\, 416410\, India
ORGANIZER;CN="Dr.%20B.%20R.%20Bhosale":MAILTO:vijay@pioneerweb.net
END:VEVENT
END:VCALENDAR