BEGIN:VCALENDAR
VERSION:2.0
PRODID:-//Asha Homoeopathy Clinic - ECPv4.9.8//NONSGML v1.0//EN
CALSCALE:GREGORIAN
METHOD:PUBLISH
X-WR-CALNAME:Asha Homoeopathy Clinic
X-ORIGINAL-URL:https://ashahomoeocare.com
X-WR-CALDESC:Events for Asha Homoeopathy Clinic
BEGIN:VTIMEZONE
TZID:Asia/Kolkata
BEGIN:STANDARD
TZOFFSETFROM:+0530
TZOFFSETTO:+0530
TZNAME:IST
DTSTART:20230101T000000
END:STANDARD
END:VTIMEZONE
BEGIN:VEVENT
DTSTART;TZID="Asia/Kolkata":20230210T080000
DTEND;TZID="Asia/Kolkata":20230210T170000
DTSTAMP:20260423T235045
CREATED:20230210T063116Z
LAST-MODIFIED:20230210T063117Z
UID:4286-1676016000-1676048400@ashahomoeocare.com
SUMMARY:GADHINGLAJ VISIT ON 19TH FEBRUARY\,2023
DESCRIPTION:
URL:https://ashahomoeocare.com/event/gadhinglaj-visit-on-19th-february2023/
ATTACH;FMTTYPE=image/jpeg:https://ashahomoeocare.com/wp-content/uploads/2023/02/329480442_5453496534754740_9161887057375536589_n.jpg
END:VEVENT
END:VCALENDAR