BEGIN:VCALENDAR
VERSION:2.0
PRODID:-//Asha Homoeopathy Clinic - ECPv4.9.8//NONSGML v1.0//EN
CALSCALE:GREGORIAN
METHOD:PUBLISH
X-WR-CALNAME:Asha Homoeopathy Clinic
X-ORIGINAL-URL:https://ashahomoeocare.com
X-WR-CALDESC:Events for Asha Homoeopathy Clinic
BEGIN:VTIMEZONE
TZID:Asia/Kolkata
BEGIN:STANDARD
TZOFFSETFROM:+0530
TZOFFSETTO:+0530
TZNAME:IST
DTSTART:20230101T000000
END:STANDARD
END:VTIMEZONE
BEGIN:VEVENT
DTSTART;TZID="Asia/Kolkata":20230308T110000
DTEND;TZID="Asia/Kolkata":20230310T170000
DTSTAMP:20260424T031959
CREATED:20230303T114144Z
LAST-MODIFIED:20230303T114622Z
UID:4303-1678273200-1678467600@ashahomoeocare.com
SUMMARY:Free Homoeopathic Camp for women in Miraj\, Vishrambagh
DESCRIPTION:\nप्रत्येक घरासाठी.. घरातल्या प्रत्येकासाठी.. आशा होमिओपॅथी सर्वांसाठी ..\n\n\nआंतरराष्ट्रीय महिला दिनाच्या निमित्ताने\n\n\nमहिलांसाठी मोफत होमिओपॅथी शिबिराची घोषणा करताना आनंद होत आहे\n\n\nशिबिराची तारीख: 8\,9\, 10 मार्च\, 2023\n\n\nशिबिराची वेळ: 11 ते 5\n\n\nशिबिराचे ठिकाण:\nमिरज:\nआशा होमिओपॅथी\, बँक ऑफ इंडिया जवळ\, शिवाजी रोड\, मिरज\nआपॉइंटमेंटकरिता मो. नं. : 8928131111\, 7875141111\n\n\nविश्रामबाग\nफ्लॅट नंबर: 3\, सत्य अपार्टमेंट\, हॉटेल पै प्रकाश जवळ\, विश्रामबाग सिग्नल सर्कल\, सांगली\, विश्रामबाग\nआपॉइंटमेंटकरिता मो. नं. : 8857908438\n\n\nया शिबिरामधे अनेक आजारांवर उपचार देण्यात येतील\, तरी सर्वानी या संधीचा लाभ घ्यावा.\n\n\nवेबसाईट : https://ashahomoeocare.com/\n#homeopathy #homeopathyheals #homeopathicmedicine #homeopathic #homoeopathy #homeopathyforall #health #medicine #homeopathytreatment #bhms #homeopathicremedies #doctor #homeopatia #wellness #homeopathicdoctor #homeopathyhealth #naturalmedicine #homeopathyresearch #homeopathyworksforme #homeopathicremedy #healthylifestyle #homeopathycures #homeopathyupdates #asha #asha_homeopathy #miraj #mumbai #chipalun #pune #kolhapurcity\n\n
URL:https://ashahomoeocare.com/event/free-homoeopathic-camp-for-women-in-miraj-vishrambagh/
ATTACH;FMTTYPE=image/jpeg:https://ashahomoeocare.com/wp-content/uploads/2023/03/IMG-20230301-WA0018.jpg
END:VEVENT
END:VCALENDAR