BEGIN:VCALENDAR
VERSION:2.0
PRODID:-//Asha Homoeopathy Clinic - ECPv4.9.8//NONSGML v1.0//EN
CALSCALE:GREGORIAN
METHOD:PUBLISH
X-WR-CALNAME:Asha Homoeopathy Clinic
X-ORIGINAL-URL:https://ashahomoeocare.com
X-WR-CALDESC:Events for Asha Homoeopathy Clinic
BEGIN:VTIMEZONE
TZID:Asia/Kolkata
BEGIN:STANDARD
TZOFFSETFROM:+0530
TZOFFSETTO:+0530
TZNAME:IST
DTSTART:20210101T000000
END:STANDARD
END:VTIMEZONE
BEGIN:VEVENT
DTSTART;TZID="Asia/Kolkata":20210405T110000
DTEND;TZID="Asia/Kolkata":20210409T180000
DTSTAMP:20260421T140226
CREATED:20210326T080247Z
LAST-MODIFIED:20210326T080247Z
UID:4022-1617620400-1617991200@ashahomoeocare.com
SUMMARY:❗❗5 Days Special Homoeopathic Camp For SKIN DISORDERS❗❗
DESCRIPTION:
URL:https://ashahomoeocare.com/event/%e2%9d%97%e2%9d%975-days-special-homoeopathic-camp-for-skin-disorders%e2%9d%97%e2%9d%97/
ATTACH;FMTTYPE=image/jpeg:https://ashahomoeocare.com/wp-content/uploads/2021/03/wesite-2.jpg
END:VEVENT
END:VCALENDAR