BEGIN:VCALENDAR
VERSION:2.0
PRODID:-//Asha Homoeopathy Clinic - ECPv4.9.8//NONSGML v1.0//EN
CALSCALE:GREGORIAN
METHOD:PUBLISH
X-WR-CALNAME:Asha Homoeopathy Clinic
X-ORIGINAL-URL:https://ashahomoeocare.com
X-WR-CALDESC:Events for Asha Homoeopathy Clinic
BEGIN:VTIMEZONE
TZID:Asia/Kolkata
BEGIN:STANDARD
TZOFFSETFROM:+0530
TZOFFSETTO:+0530
TZNAME:IST
DTSTART:20230101T000000
END:STANDARD
END:VTIMEZONE
BEGIN:VEVENT
DTSTART;VALUE=DATE:20230323
DTEND;VALUE=DATE:20230324
DTSTAMP:20260424T065058
CREATED:20230320T111008Z
LAST-MODIFIED:20230320T111034Z
UID:4315-1679529600-1679615999@ashahomoeocare.com
SUMMARY:‼️मोफत आरोग्य शिबीर मतीमंद व गतिमंद मुलांसाठी‼️
DESCRIPTION:
URL:https://ashahomoeocare.com/event/%e2%80%bc%ef%b8%8f%e0%a4%ae%e0%a5%8b%e0%a4%ab%e0%a4%a4-%e0%a4%86%e0%a4%b0%e0%a5%8b%e0%a4%97%e0%a5%8d%e0%a4%af-%e0%a4%b6%e0%a4%bf%e0%a4%ac%e0%a5%80%e0%a4%b0-%e0%a4%ae%e0%a4%a4%e0%a5%80%e0%a4%ae/
ATTACH;FMTTYPE=image/jpeg:https://ashahomoeocare.com/wp-content/uploads/2023/03/336168279_1834398316941769_3875774105591131015_n.jpg
END:VEVENT
END:VCALENDAR