BEGIN:VCALENDAR
VERSION:2.0
PRODID:-//Asha Homoeopathy Clinic - ECPv4.9.8//NONSGML v1.0//EN
CALSCALE:GREGORIAN
METHOD:PUBLISH
X-WR-CALNAME:Asha Homoeopathy Clinic
X-ORIGINAL-URL:https://ashahomoeocare.com
X-WR-CALDESC:Events for Asha Homoeopathy Clinic
BEGIN:VTIMEZONE
TZID:Asia/Kolkata
BEGIN:STANDARD
TZOFFSETFROM:+0530
TZOFFSETTO:+0530
TZNAME:IST
DTSTART:20220101T000000
END:STANDARD
END:VTIMEZONE
BEGIN:VEVENT
DTSTART;TZID="Asia/Kolkata":20221203T110000
DTEND;TZID="Asia/Kolkata":20221203T170000
DTSTAMP:20260423T173757
CREATED:20221124T104858Z
LAST-MODIFIED:20221124T105012Z
UID:4209-1670065200-1670086800@ashahomoeocare.com
SUMMARY:आशा होमिओपॅथी आयोजित फ्री कन्सल्टिंग होमिओपॅथिक कॅम्प चिपळूण मध्ये
DESCRIPTION:\nआशा होमिओपॅथी आयोजित फ्री कन्सल्टिंग होमिओपॅथिक कॅम्प चिपळूण मध्ये\n\n\nचिपळूण मध्ये\nसर्व असाध्य रोगांसाठी\nफ्री कन्सल्टिंग होमिओपॅथिक कॅम्प\n\n\n शनिवार दि 3 डिसेंबर\, 2022 रोजी\n वेळ सकाळी 11 ते दुपारी 5PM\n शिबिराचे ठिकाण: काणे बंधू हॉल\, चिंच नाका\, चिपळूण\n\n\nशिबिराचे वैशिष्ट्य:\n नाव नोंदणी फी १०० रुपये\nशिबिरात येणाऱ्या रुग्णांसाठी औषधांवर 50 टक्के सूट देण्यात येईल..\n\n\nनाव नोंदणी आवश्यक..\nनाव नोंदणी साठी संपर्क\n8928131111\n7875141111\n\n\n#asha_homeopathy #chiplun #homeopathicdoctor #homeopathy #homeopathyupdates #homeopathyhealth #homeopathyresearch #homeopathycures #homeopathyforall #homeopathyheals #Ratnagiri #kokan\n\n
URL:https://ashahomoeocare.com/event/%e0%a4%86%e0%a4%b6%e0%a4%be-%e0%a4%b9%e0%a5%8b%e0%a4%ae%e0%a4%bf%e0%a4%93%e0%a4%aa%e0%a5%85%e0%a4%a5%e0%a5%80-%e0%a4%86%e0%a4%af%e0%a5%8b%e0%a4%9c%e0%a4%bf%e0%a4%a4-%e0%a4%ab%e0%a5%8d%e0%a4%b0/
ATTACH;FMTTYPE=image/jpeg:https://ashahomoeocare.com/wp-content/uploads/2022/11/316688251_511131424368772_3736678085601542051_n.jpg
END:VEVENT
END:VCALENDAR